BEGIN:VCALENDAR
VERSION:2.0
PRODID:-//wp-events-plugin.com//7.2.3.1//EN
TZID:America/Chicago
X-WR-TIMEZONE:America/Chicago
BEGIN:VEVENT
UID:9@westfrankfortpubliclibrary.org
DTSTART;TZID=America/Chicago:20201125T160000
DTEND;TZID=America/Chicago:20201125T233000
DTSTAMP:20200518T182454Z
URL:https://westfrankfortpubliclibrary.org/events/close-at-400/
SUMMARY:Close at 4:00
DESCRIPTION:The library will close at 4:00 pm to begin the Thanksgiving Hol
 iday.
CATEGORIES:Library information
END:VEVENT
BEGIN:VTIMEZONE
TZID:America/Chicago
X-LIC-LOCATION:America/Chicago
BEGIN:STANDARD
DTSTART:20201101T010000
TZOFFSETFROM:-0500
TZOFFSETTO:-0600
TZNAME:CST
END:STANDARD
END:VTIMEZONE
END:VCALENDAR