BEGIN:VCALENDAR
VERSION:2.0
PRODID:-//wp-events-plugin.com//7.2.3.1//EN
TZID:America/Chicago
X-WR-TIMEZONE:America/Chicago
BEGIN:VEVENT
UID:107@westfrankfortpubliclibrary.org
DTSTART;TZID=America/Chicago:20210513T160000
DTEND;TZID=America/Chicago:20210513T160000
DTSTAMP:20210405T183251Z
URL:https://westfrankfortpubliclibrary.org/events/close-at-400-2/
SUMMARY:Close at 4:00
DESCRIPTION:The library will close at 4:00 to allow parking on the lot for 
 the Old King Coal Festival.
CATEGORIES:Library information
END:VEVENT
BEGIN:VTIMEZONE
TZID:America/Chicago
X-LIC-LOCATION:America/Chicago
BEGIN:DAYLIGHT
DTSTART:20210314T030000
TZOFFSETFROM:-0600
TZOFFSETTO:-0500
TZNAME:CDT
END:DAYLIGHT
END:VTIMEZONE
END:VCALENDAR