BEGIN:VCALENDAR
VERSION:2.0
PRODID:-//wp-events-plugin.com//7.2.3.1//EN
TZID:America/Chicago
X-WR-TIMEZONE:America/Chicago
BEGIN:VEVENT
UID:54@westfrankfortpubliclibrary.org
DTSTART;TZID=America/Chicago:20210208T190000
DTEND;TZID=America/Chicago:20210208T200000
DTSTAMP:20210105T203019Z
URL:https://westfrankfortpubliclibrary.org/events/board-meeting-6/
SUMMARY:Board Meeting
DESCRIPTION:Board meeting is held in the community room at the library.
CATEGORIES:Library information
END:VEVENT
BEGIN:VTIMEZONE
TZID:America/Chicago
X-LIC-LOCATION:America/Chicago
BEGIN:STANDARD
DTSTART:20201101T010000
TZOFFSETFROM:-0500
TZOFFSETTO:-0600
TZNAME:CST
END:STANDARD
END:VTIMEZONE
END:VCALENDAR