BEGIN:VCALENDAR
VERSION:2.0
PRODID:-//wp-events-plugin.com//7.2.3.1//EN
TZID:America/Chicago
X-WR-TIMEZONE:America/Chicago
BEGIN:VEVENT
UID:426@westfrankfortpubliclibrary.org
DTSTART;TZID=America/Chicago:20240212T190000
DTEND;TZID=America/Chicago:20240212T200000
DTSTAMP:20240102T175858Z
URL:https://westfrankfortpubliclibrary.org/events/board-meeting-33/
SUMMARY:Board meeting
DESCRIPTION:Board meeting is held in the Community Room at the Library.
CATEGORIES:Library information
END:VEVENT
BEGIN:VTIMEZONE
TZID:America/Chicago
X-LIC-LOCATION:America/Chicago
BEGIN:STANDARD
DTSTART:20231105T010000
TZOFFSETFROM:-0500
TZOFFSETTO:-0600
TZNAME:CST
END:STANDARD
END:VTIMEZONE
END:VCALENDAR