BEGIN:VCALENDAR
VERSION:2.0
PRODID:-//wp-events-plugin.com//7.2.3.1//EN
TZID:America/Chicago
X-WR-TIMEZONE:America/Chicago
BEGIN:VEVENT
UID:6@westfrankfortpubliclibrary.org
DTSTART;TZID=America/Chicago:20200914T190000
DTEND;TZID=America/Chicago:20200914T200000
DTSTAMP:20200518T182036Z
URL:https://westfrankfortpubliclibrary.org/events/board-meeting-3/
SUMMARY:Board meeting
DESCRIPTION:Board meeting is held at the library in the community room.
CATEGORIES:Library information
END:VEVENT
BEGIN:VTIMEZONE
TZID:America/Chicago
X-LIC-LOCATION:America/Chicago
BEGIN:DAYLIGHT
DTSTART:20200308T030000
TZOFFSETFROM:-0600
TZOFFSETTO:-0500
TZNAME:CDT
END:DAYLIGHT
END:VTIMEZONE
END:VCALENDAR