BEGIN:VCALENDAR
VERSION:2.0
PRODID:-//wp-events-plugin.com//7.2.3.1//EN
TZID:America/Chicago
X-WR-TIMEZONE:America/Chicago
BEGIN:VEVENT
UID:184@westfrankfortpubliclibrary.org
DTSTART;TZID=America/Chicago:20220912T190000
DTEND;TZID=America/Chicago:20220912T200000
DTSTAMP:20211202T170749Z
URL:https://westfrankfortpubliclibrary.org/events/board-meeting-21/
SUMMARY:Board Meeting
DESCRIPTION:Board meeting is held in the Community Room at the Library.
CATEGORIES:Library information
END:VEVENT
BEGIN:VTIMEZONE
TZID:America/Chicago
X-LIC-LOCATION:America/Chicago
BEGIN:DAYLIGHT
DTSTART:20220313T030000
TZOFFSETFROM:-0600
TZOFFSETTO:-0500
TZNAME:CDT
END:DAYLIGHT
END:VTIMEZONE
END:VCALENDAR