BEGIN:VCALENDAR
VERSION:2.0
PRODID:-//wp-events-plugin.com//7.2.3.1//EN
TZID:America/Chicago
X-WR-TIMEZONE:America/Chicago
BEGIN:VEVENT
UID:235@westfrankfortpubliclibrary.org
DTSTART;TZID=America/Chicago:20220726T140000
DTEND;TZID=America/Chicago:20220726T153000
DTSTAMP:20220602T154401Z
URL:https://westfrankfortpubliclibrary.org/events/archaeology-adventure/
SUMMARY:Archaeology Adventure
DESCRIPTION:Join us for an interactive educational experience. Learn about 
 digging for clues\, making ceramics\, drum making\, games and pictographs.
CATEGORIES:Children's program
END:VEVENT
BEGIN:VTIMEZONE
TZID:America/Chicago
X-LIC-LOCATION:America/Chicago
BEGIN:DAYLIGHT
DTSTART:20220313T030000
TZOFFSETFROM:-0600
TZOFFSETTO:-0500
TZNAME:CDT
END:DAYLIGHT
END:VTIMEZONE
END:VCALENDAR