BEGIN:VCALENDAR
VERSION:2.0
PRODID:-//wp-events-plugin.com//7.2.3.1//EN
TZID:America/Chicago
X-WR-TIMEZONE:America/Chicago
BEGIN:VEVENT
UID:232@westfrankfortpubliclibrary.org
DTSTART;TZID=America/Chicago:20220630T190000
DTEND;TZID=America/Chicago:20220630T200000
DTSTAMP:20220517T173901Z
URL:https://westfrankfortpubliclibrary.org/events/an-evening-with-michelle
 -zauner/
SUMMARY:An evening with Michelle Zauner
DESCRIPTION:An Evening with Michelle Zauner \nMusician and author Michelle
  Zauner discusses her music career and her beloved bestseller Crying in H 
 Mart. Her memoir about growing up Korean American\, losing her mother\, an
 d forging her own identity was a New York Times notable book of the year.
  \nBest known as a singer and guitarist who creates indie pop under the n
 ame Japanese Breakfast\, Grammy Award-nominated Zauner has won acclaim fro
 m major music outlets around the world. In conversation with Jessica Hoppe
 r\, Chicago-based music critic\, producer\, and author.\n&nbsp\;\nJoin us 
 on Zoom.  Register at  https://bit.ly/May18_MichelleZauner\n \nThursday
 \, June 30\, 7 p.m.\n&nbsp\;\nThis event is made possible by Illinois Lib
 raries Present\, a statewide collaboration among public libraries offering
  high-quality events. Funded in part by a grant awarded by the Illinois St
 ate Library\, a Department of the Office of Secretary of State\, using fun
 ds provided by the U.S. Institute of Museum and Library Services\, under t
 he provisions of the Library Services and Technology Act (LSTA).
CATEGORIES:Adult program
END:VEVENT
BEGIN:VTIMEZONE
TZID:America/Chicago
X-LIC-LOCATION:America/Chicago
BEGIN:DAYLIGHT
DTSTART:20220313T030000
TZOFFSETFROM:-0600
TZOFFSETTO:-0500
TZNAME:CDT
END:DAYLIGHT
END:VTIMEZONE
END:VCALENDAR