BEGIN:VCALENDAR
VERSION:2.0
PRODID:-//wp-events-plugin.com//7.2.3.1//EN
TZID:America/Chicago
X-WR-TIMEZONE:America/Chicago
BEGIN:VEVENT
UID:222@westfrankfortpubliclibrary.org
DTSTART;TZID=America/Chicago:20220525T190000
DTEND;TZID=America/Chicago:20220525T200000
DTSTAMP:20220428T143858Z
URL:https://westfrankfortpubliclibrary.org/events/an-evening-with-jessamin
 e-chan-emily-maloney/
SUMMARY:An evening with Jessamine Chan & Emily Maloney
DESCRIPTION:Jessamine Chan &amp\; Emily Maloney \nJoin Jessamine Chan and 
 Emily Maloney for a discussion about the systems of power that impact our 
 lives\, our families\, and our finances\, through the lens of their acclai
 med books\, The School for Good Mothers and Cost of Living.\n\nJessamine C
 han is the New York Times bestselling author of The School for Good Mother
 s\, her debut novel. Her short stories have appeared in Tin House and Epoc
 h. She holds an MFA from Columbia University and lives in Chicago with her
  family.\n\nEmily Maloney is the author of Cost of Living\, a collection o
 f essays. Her work has appeared in Glamour\, Virginia Quarterly Review\, a
 nd Best American Essays\, among others. She holds an MFA from The Universi
 ty of Pittsburgh and lives in Evanston\, Illinois\, with her partner and t
 heir dog.\n\nJoin us on Zoom.https://bit.ly/ILP_JessamineEmily\nThis event
  is made possible by Illinois Libraries Present\, a statewide collaborati
 on among public libraries offering high-quality events. Funded in part by 
 a grant awarded by the Illinois State Library\, a Department of the Office
  of Secretary of State\, using funds provided by the U.S. Institute of Mus
 eum and Library Services\, under the provisions of the Library Services an
 d Technology Act (LSTA).
CATEGORIES:Adult program
END:VEVENT
BEGIN:VTIMEZONE
TZID:America/Chicago
X-LIC-LOCATION:America/Chicago
BEGIN:DAYLIGHT
DTSTART:20220313T030000
TZOFFSETFROM:-0600
TZOFFSETTO:-0500
TZNAME:CDT
END:DAYLIGHT
END:VTIMEZONE
END:VCALENDAR