BEGIN:VCALENDAR
VERSION:2.0
PRODID:-//wp-events-plugin.com//7.2.3.1//EN
TZID:America/Chicago
X-WR-TIMEZONE:America/Chicago
BEGIN:VEVENT
UID:196@westfrankfortpubliclibrary.org
DTSTART;TZID=America/Chicago:20220126T190000
DTEND;TZID=America/Chicago:20220126T200000
DTSTAMP:20211222T164004Z
URL:https://westfrankfortpubliclibrary.org/events/an-evening-with-author-s
 ilvia-moreno-garcia/
SUMMARY:An evening with author Silvia Moreno-Garcia
DESCRIPTION:&nbsp\;\nBestselling author Silvia Moreno-Garcia discusses her 
 newest book\, Velvet Was the Night\, and her genre-defying mashups of cul
 tural noir and Lovecraftian horror. \nSilvia Moreno-Garcia is the New Yor
 k Times bestselling author of the critically acclaimed novels Certain Dar
 k Things\, Gods of Jade and Shadow and Mexican Gothic\, which Vanity F
 air called “[An] irresistibly dark feminist reimagining of the Gothic f
 antasy novel.” Mexican by birth\, Canadian by inclination\, Silvia has 
 edited several anthologies\, received many awards for her novels\, and is 
 a columnist for the Washington Post. \nTo register click the link below.
 \nhttps://us02web.zoom.us/webinar/register/WN_z3DtVIPyQWe6AxmLYuTECw\n&nbs
 p\;\n&nbsp\;\n&nbsp\;\n&nbsp\;
CATEGORIES:Adult program
END:VEVENT
BEGIN:VTIMEZONE
TZID:America/Chicago
X-LIC-LOCATION:America/Chicago
BEGIN:STANDARD
DTSTART:20211107T010000
TZOFFSETFROM:-0500
TZOFFSETTO:-0600
TZNAME:CST
END:STANDARD
END:VTIMEZONE
END:VCALENDAR