BEGIN:VCALENDAR
VERSION:2.0
PRODID:-//wp-events-plugin.com//7.2.3.1//EN
TZID:America/Chicago
X-WR-TIMEZONE:America/Chicago
BEGIN:VEVENT
UID:197@westfrankfortpubliclibrary.org
DTSTART;TZID=America/Chicago:20220216T190000
DTEND;TZID=America/Chicago:20220216T200000
DTSTAMP:20211222T163804Z
URL:https://westfrankfortpubliclibrary.org/events/an-evening-with-author-j
 asmine-guillory/
SUMMARY:An evening with author Jasmine Guillory
DESCRIPTION:Join us for a lively evening with bestselling author Jasmine Gu
 illory as she discusses the importance of real life and the modern rom-com
 . \nJasmine Guillory is a writer\, lawyer and New York Times bestselling 
 author of six romance novels\, including The Wedding Date\, The Proposal
 \, and While We Were Dating. NPR called The Proposal\, “Rollicking\, c
 harming\, and infinitely zesty.” Her work has appeared in O\, The Opr
 ah Magazine\, Cosmopolitan\, Bon Appetit\, and Time. She lives in Oakla
 nd\, California. \nTo register for this event click the link below.\n\n\n
 https://us02web.zoom.us/webinar/register/WN_tTHFmy7iRT-yC0D2qOIeyQ\n\n
CATEGORIES:Adult program
END:VEVENT
BEGIN:VTIMEZONE
TZID:America/Chicago
X-LIC-LOCATION:America/Chicago
BEGIN:STANDARD
DTSTART:20211107T010000
TZOFFSETFROM:-0500
TZOFFSETTO:-0600
TZNAME:CST
END:STANDARD
END:VTIMEZONE
END:VCALENDAR