BEGIN:VCALENDAR
VERSION:2.0
PRODID:-//wp-events-plugin.com//7.2.3.1//EN
TZID:America/Chicago
X-WR-TIMEZONE:America/Chicago
BEGIN:VEVENT
UID:328@westfrankfortpubliclibrary.org
DTSTART;TZID=America/Chicago:20230203T173000
DTEND;TZID=America/Chicago:20230203T190000
DTSTAMP:20230202T152943Z
URL:https://westfrankfortpubliclibrary.org/events/adult-craft-rescheduled-
 from-1-31-registration-required/
SUMMARY:Adult Craft - rescheduled from 1/31 - registration required
DESCRIPTION:Adult Craft - rescheduled from 1/31. Spots are limited. Call Mi
 chelle at the library to reserve you place.
CATEGORIES:Adult program
END:VEVENT
BEGIN:VTIMEZONE
TZID:America/Chicago
X-LIC-LOCATION:America/Chicago
BEGIN:STANDARD
DTSTART:20221106T010000
TZOFFSETFROM:-0500
TZOFFSETTO:-0600
TZNAME:CST
END:STANDARD
END:VTIMEZONE
END:VCALENDAR