BEGIN:VCALENDAR
VERSION:2.0
PRODID:-//wp-events-plugin.com//7.2.3.1//EN
TZID:America/Chicago
X-WR-TIMEZONE:America/Chicago
BEGIN:VEVENT
UID:146@westfrankfortpubliclibrary.org
DTSTART;TZID=America/Chicago:20210901T173000
DTEND;TZID=America/Chicago:20210901T190000
DTSTAMP:20210826T175649Z
URL:https://westfrankfortpubliclibrary.org/events/adult-craft-registration
 -required/
SUMMARY:Adult Craft - registration required
DESCRIPTION:Adult craft - space is limited call Michelle at the Library to 
 reserve your spot
CATEGORIES:Adult program
END:VEVENT
BEGIN:VTIMEZONE
TZID:America/Chicago
X-LIC-LOCATION:America/Chicago
BEGIN:DAYLIGHT
DTSTART:20210314T030000
TZOFFSETFROM:-0600
TZOFFSETTO:-0500
TZNAME:CDT
END:DAYLIGHT
END:VTIMEZONE
END:VCALENDAR