BEGIN:VCALENDAR
VERSION:2.0
PRODID:-//wp-events-plugin.com//7.2.3.1//EN
TZID:America/Chicago
X-WR-TIMEZONE:America/Chicago
BEGIN:VEVENT
UID:271@westfrankfortpubliclibrary.org
DTSTART;TZID=America/Chicago:20221212T163000
DTEND;TZID=America/Chicago:20221212T180000
DTSTAMP:20221207T194127Z
URL:https://westfrankfortpubliclibrary.org/events/adult-craft-registration
 -required-9/
SUMMARY:Adult Craft - registration required
DESCRIPTION:Adult Craft. Space is limited so registration is required. Call
  Michelle at the library to reserve your spot.
CATEGORIES:Adult program
END:VEVENT
BEGIN:VTIMEZONE
TZID:America/Chicago
X-LIC-LOCATION:America/Chicago
BEGIN:STANDARD
DTSTART:20221106T010000
TZOFFSETFROM:-0500
TZOFFSETTO:-0600
TZNAME:CST
END:STANDARD
END:VTIMEZONE
END:VCALENDAR