BEGIN:VCALENDAR
VERSION:2.0
PRODID:-//wp-events-plugin.com//7.2.3.1//EN
TZID:America/Chicago
X-WR-TIMEZONE:America/Chicago
BEGIN:VEVENT
UID:247@westfrankfortpubliclibrary.org
DTSTART;TZID=America/Chicago:20220914T173000
DTEND;TZID=America/Chicago:20220914T190000
DTSTAMP:20220816T184650Z
URL:https://westfrankfortpubliclibrary.org/events/adult-craft-registration
 -required-6/
SUMMARY:Adult Craft - registration required
DESCRIPTION:Make a fall craft.  Space is limited. Call Michelle at the lib
 rary to reserve your spot.
CATEGORIES:Adult program
END:VEVENT
BEGIN:VTIMEZONE
TZID:America/Chicago
X-LIC-LOCATION:America/Chicago
BEGIN:DAYLIGHT
DTSTART:20220313T030000
TZOFFSETFROM:-0600
TZOFFSETTO:-0500
TZNAME:CDT
END:DAYLIGHT
END:VTIMEZONE
END:VCALENDAR