BEGIN:VCALENDAR
VERSION:2.0
PRODID:-//wp-events-plugin.com//7.2.3.1//EN
TZID:America/Chicago
X-WR-TIMEZONE:America/Chicago
BEGIN:VEVENT
UID:721@westfrankfortpubliclibrary.org
DTSTART;TZID=America/Chicago:20260219T173000
DTEND;TZID=America/Chicago:20260219T190000
DTSTAMP:20260105T163538Z
URL:https://westfrankfortpubliclibrary.org/events/adult-craft-registration
 -required-44/
SUMMARY:Adult Craft - registration required
DESCRIPTION:Supplies are limited. Call Michelle at the library to reserve y
 our spot.
CATEGORIES:Adult program
END:VEVENT
BEGIN:VTIMEZONE
TZID:America/Chicago
X-LIC-LOCATION:America/Chicago
BEGIN:STANDARD
DTSTART:20251102T010000
TZOFFSETFROM:-0500
TZOFFSETTO:-0600
TZNAME:CST
END:STANDARD
END:VTIMEZONE
END:VCALENDAR