BEGIN:VCALENDAR
VERSION:2.0
PRODID:-//wp-events-plugin.com//7.2.3.1//EN
TZID:America/Chicago
X-WR-TIMEZONE:America/Chicago
BEGIN:VEVENT
UID:323@westfrankfortpubliclibrary.org
DTSTART;TZID=America/Chicago:20231214T173000
DTEND;TZID=America/Chicago:20231214T190000
DTSTAMP:20231101T190451Z
URL:https://westfrankfortpubliclibrary.org/events/adult-craft-registration
 -required-20/
SUMMARY:Adult Craft - registration required
DESCRIPTION:Adult craft -for ages 18 and older -  space is limited - call 
 Michelle at the library to register
CATEGORIES:Adult program
END:VEVENT
BEGIN:VTIMEZONE
TZID:America/Chicago
X-LIC-LOCATION:America/Chicago
BEGIN:STANDARD
DTSTART:20231105T010000
TZOFFSETFROM:-0500
TZOFFSETTO:-0600
TZNAME:CST
END:STANDARD
END:VTIMEZONE
END:VCALENDAR