BEGIN:VCALENDAR
VERSION:2.0
PRODID:-//wp-events-plugin.com//7.2.3.1//EN
TZID:America/Chicago
X-WR-TIMEZONE:America/Chicago
BEGIN:VEVENT
UID:313@westfrankfortpubliclibrary.org
DTSTART;TZID=America/Chicago:20230130T173000
DTEND;TZID=America/Chicago:20230130T190000
DTSTAMP:20230202T153206Z
URL:https://westfrankfortpubliclibrary.org/events/adult-craft-registration
 -required-10/
SUMMARY:Adult Craft - Postponed due to weather conditions
DESCRIPTION:Adult craft - space is limited - call Michelle at the library t
 o register
CATEGORIES:Adult program
END:VEVENT
BEGIN:VTIMEZONE
TZID:America/Chicago
X-LIC-LOCATION:America/Chicago
BEGIN:STANDARD
DTSTART:20221106T010000
TZOFFSETFROM:-0500
TZOFFSETTO:-0600
TZNAME:CST
END:STANDARD
END:VTIMEZONE
END:VCALENDAR