BEGIN:VCALENDAR
VERSION:2.0
PRODID:-//wp-events-plugin.com//7.2.3.1//EN
TZID:America/Chicago
X-WR-TIMEZONE:America/Chicago
BEGIN:VEVENT
UID:166@westfrankfortpubliclibrary.org
DTSTART;TZID=America/Chicago:20211206T053000
DTEND;TZID=America/Chicago:20211206T070000
DTSTAMP:20211202T164457Z
URL:https://westfrankfortpubliclibrary.org/events/adult-craft-night-space-
 limited-registration-required/
SUMMARY:Adult Craft night - space limited registration required
DESCRIPTION:Adult craft night - registration is required. Call Michelle at 
 the library to reserve your spot.
CATEGORIES:Adult program
END:VEVENT
BEGIN:VTIMEZONE
TZID:America/Chicago
X-LIC-LOCATION:America/Chicago
BEGIN:STANDARD
DTSTART:20211107T010000
TZOFFSETFROM:-0500
TZOFFSETTO:-0600
TZNAME:CST
END:STANDARD
END:VTIMEZONE
END:VCALENDAR