BEGIN:VCALENDAR
VERSION:2.0
PRODID:-//wp-events-plugin.com//7.2.3.1//EN
TZID:America/Chicago
X-WR-TIMEZONE:America/Chicago
BEGIN:VEVENT
UID:130@westfrankfortpubliclibrary.org
DTSTART;TZID=America/Chicago:20210623T173000
DTEND;TZID=America/Chicago:20210623T190000
DTSTAMP:20210621T144421Z
URL:https://westfrankfortpubliclibrary.org/events/adult-craft-night-regist
 ration-required-2/
SUMMARY:Adult craft night - registration required
DESCRIPTION:Space is limited - call Michelle at the library to reserve your
  spot.
CATEGORIES:Adult program
END:VEVENT
BEGIN:VTIMEZONE
TZID:America/Chicago
X-LIC-LOCATION:America/Chicago
BEGIN:DAYLIGHT
DTSTART:20210314T030000
TZOFFSETFROM:-0600
TZOFFSETTO:-0500
TZNAME:CDT
END:DAYLIGHT
END:VTIMEZONE
END:VCALENDAR